BEGIN:VCALENDAR
VERSION:2.0
PRODID:-//B! Erica zu Suderburg - ECPv6.1.2.2//NONSGML v1.0//EN
CALSCALE:GREGORIAN
METHOD:PUBLISH
X-WR-CALNAME:B! Erica zu Suderburg
X-ORIGINAL-URL:https://burschenschaft-erica.de
X-WR-CALDESC:Veranstaltungen für B! Erica zu Suderburg
REFRESH-INTERVAL;VALUE=DURATION:PT1H
X-Robots-Tag:noindex
X-PUBLISHED-TTL:PT1H
BEGIN:VTIMEZONE
TZID:Europe/Berlin
BEGIN:DAYLIGHT
TZOFFSETFROM:+0100
TZOFFSETTO:+0200
TZNAME:CEST
DTSTART:20230326T010000
END:DAYLIGHT
BEGIN:STANDARD
TZOFFSETFROM:+0200
TZOFFSETTO:+0100
TZNAME:CET
DTSTART:20231029T010000
END:STANDARD
END:VTIMEZONE
BEGIN:VEVENT
DTSTART;VALUE=DATE:20230511
DTEND;VALUE=DATE:20230512
DTSTAMP:20260424T094353
CREATED:20230304T150801Z
LAST-MODIFIED:20230304T150801Z
UID:4078-1683763200-1683849599@burschenschaft-erica.de
SUMMARY:Projekttag Wasser der Erica Ingenieure
DESCRIPTION:
URL:https://burschenschaft-erica.de/veranstaltungen/projekttag-wasser-der-erica-ingenieure/
LOCATION:Ostfalia Hochschule für angewandte Wissenschaften\, Herbert-Meyer-Straße 7\, Suderburg\, 29556\, Deutschland
CATEGORIES:für Studenten
ORGANIZER;CN="Erica%20Ingnieure%20-%20Gesellschaft%20f%C3%BCr%20Naturwissenschaft%20und%20Technik":MAILTO:ing@erica-ing.de
END:VEVENT
END:VCALENDAR